BEGIN:VCALENDAR
VERSION:2.0
PRODID:-//Gastown - ECPv6.15.18//NONSGML v1.0//EN
CALSCALE:GREGORIAN
METHOD:PUBLISH
X-ORIGINAL-URL:https://gastown.org
X-WR-CALDESC:Events for Gastown
REFRESH-INTERVAL;VALUE=DURATION:PT1H
X-Robots-Tag:noindex
X-PUBLISHED-TTL:PT1H
BEGIN:VTIMEZONE
TZID:America/Vancouver
BEGIN:DAYLIGHT
TZOFFSETFROM:-0800
TZOFFSETTO:-0700
TZNAME:PDT
DTSTART:20230312T100000
END:DAYLIGHT
BEGIN:STANDARD
TZOFFSETFROM:-0700
TZOFFSETTO:-0800
TZNAME:PST
DTSTART:20231105T090000
END:STANDARD
BEGIN:DAYLIGHT
TZOFFSETFROM:-0800
TZOFFSETTO:-0700
TZNAME:PDT
DTSTART:20240310T100000
END:DAYLIGHT
BEGIN:STANDARD
TZOFFSETFROM:-0700
TZOFFSETTO:-0800
TZNAME:PST
DTSTART:20241103T090000
END:STANDARD
BEGIN:DAYLIGHT
TZOFFSETFROM:-0800
TZOFFSETTO:-0700
TZNAME:PDT
DTSTART:20250309T100000
END:DAYLIGHT
BEGIN:STANDARD
TZOFFSETFROM:-0700
TZOFFSETTO:-0800
TZNAME:PST
DTSTART:20251102T090000
END:STANDARD
END:VTIMEZONE
BEGIN:VEVENT
DTSTART;TZID=America/Vancouver:20240803T100000
DTEND;TZID=America/Vancouver:20240803T150000
DTSTAMP:20260422T032250
CREATED:20240725T210615Z
LAST-MODIFIED:20240725T210615Z
UID:10000071-1722679200-1722697200@gastown.org
SUMMARY:Vancouver Film School - Summer Studio Tours
DESCRIPTION:Word on the (Water) Street is – you can take a personalized tour of VFS’s campus on Aug 3! Beat the summer heat and come tour Vancouver Film School to get a look behind-the-scenes of our world-leading campus\, studios\, and facilities \n 
URL:https://gastown.org/event/vancouver-film-school-summer-studio-tours/
LOCATION:142 Water St\, 142 Water St\, Vancouver\, British Columbia\, Canada
END:VEVENT
END:VCALENDAR