BEGIN:VCALENDAR
VERSION:2.0
PRODID:-//Gastown - ECPv6.15.18//NONSGML v1.0//EN
CALSCALE:GREGORIAN
METHOD:PUBLISH
X-WR-CALNAME:Gastown
X-ORIGINAL-URL:https://gastown.org
X-WR-CALDESC:Events for Gastown
REFRESH-INTERVAL;VALUE=DURATION:PT1H
X-Robots-Tag:noindex
X-PUBLISHED-TTL:PT1H
BEGIN:VTIMEZONE
TZID:America/Vancouver
BEGIN:DAYLIGHT
TZOFFSETFROM:-0800
TZOFFSETTO:-0700
TZNAME:PDT
DTSTART:20230312T100000
END:DAYLIGHT
BEGIN:STANDARD
TZOFFSETFROM:-0700
TZOFFSETTO:-0800
TZNAME:PST
DTSTART:20231105T090000
END:STANDARD
BEGIN:DAYLIGHT
TZOFFSETFROM:-0800
TZOFFSETTO:-0700
TZNAME:PDT
DTSTART:20240310T100000
END:DAYLIGHT
BEGIN:STANDARD
TZOFFSETFROM:-0700
TZOFFSETTO:-0800
TZNAME:PST
DTSTART:20241103T090000
END:STANDARD
BEGIN:DAYLIGHT
TZOFFSETFROM:-0800
TZOFFSETTO:-0700
TZNAME:PDT
DTSTART:20250309T100000
END:DAYLIGHT
BEGIN:STANDARD
TZOFFSETFROM:-0700
TZOFFSETTO:-0800
TZNAME:PST
DTSTART:20251102T090000
END:STANDARD
BEGIN:DAYLIGHT
TZOFFSETFROM:-0800
TZOFFSETTO:-0700
TZNAME:PDT
DTSTART:20260308T100000
END:DAYLIGHT
BEGIN:STANDARD
TZOFFSETFROM:-0700
TZOFFSETTO:-0800
TZNAME:PST
DTSTART:20261101T090000
END:STANDARD
END:VTIMEZONE
BEGIN:VEVENT
DTSTART;TZID=America/Vancouver:20250821T160000
DTEND;TZID=America/Vancouver:20250821T190000
DTSTAMP:20260420T074552
CREATED:20250612T203721Z
LAST-MODIFIED:20250612T203721Z
UID:10000092-1755792000-1755802800@gastown.org
SUMMARY:Gastown Thursday Nights
DESCRIPTION:Patios\, pop-ups\, and good times – Thursday nights in Gastown are back. \nStart your weekend early. Every Thursday night this summer\, Gastown becomes a living soundtrack – featuring live performances on every block\, patios that spill into the streets\, and that classic cobblestone charm. Come for the music\, stay for the magic. Every Thursday\, 4–7 PM. \nStay tuned for your weekly lineup. \nBrought to you in partnership with Amex Shop Small®. \n \n 
URL:https://gastown.org/event/gastown-thursday-nights/2025-08-21/
LOCATION:Gastown\, 1 Alexander St\, Vancouver\, Canada
ATTACH;FMTTYPE=image/jpeg:https://gastown.org/wp-content/uploads/2025/05/JR300597_@.jpg
END:VEVENT
BEGIN:VEVENT
DTSTART;TZID=America/Vancouver:20250814T160000
DTEND;TZID=America/Vancouver:20250814T190000
DTSTAMP:20260420T074552
CREATED:20250612T203721Z
LAST-MODIFIED:20250612T203721Z
UID:10000091-1755187200-1755198000@gastown.org
SUMMARY:Gastown Thursday Nights
DESCRIPTION:Patios\, pop-ups\, and good times – Thursday nights in Gastown are back. \nStart your weekend early. Every Thursday night this summer\, Gastown becomes a living soundtrack – featuring live performances on every block\, patios that spill into the streets\, and that classic cobblestone charm. Come for the music\, stay for the magic. Every Thursday\, 4–7 PM. \nStay tuned for your weekly lineup. \nBrought to you in partnership with Amex Shop Small®. \n \n 
URL:https://gastown.org/event/gastown-thursday-nights/2025-08-14/
LOCATION:Gastown\, 1 Alexander St\, Vancouver\, Canada
ATTACH;FMTTYPE=image/jpeg:https://gastown.org/wp-content/uploads/2025/05/JR300597_@.jpg
END:VEVENT
BEGIN:VEVENT
DTSTART;TZID=America/Vancouver:20250807T160000
DTEND;TZID=America/Vancouver:20250807T190000
DTSTAMP:20260420T074552
CREATED:20250612T203721Z
LAST-MODIFIED:20250612T203721Z
UID:10000090-1754582400-1754593200@gastown.org
SUMMARY:Gastown Thursday Nights
DESCRIPTION:Patios\, pop-ups\, and good times – Thursday nights in Gastown are back. \nStart your weekend early. Every Thursday night this summer\, Gastown becomes a living soundtrack – featuring live performances on every block\, patios that spill into the streets\, and that classic cobblestone charm. Come for the music\, stay for the magic. Every Thursday\, 4–7 PM. \nStay tuned for your weekly lineup. \nBrought to you in partnership with Amex Shop Small®. \n \n 
URL:https://gastown.org/event/gastown-thursday-nights/2025-08-07/
LOCATION:Gastown\, 1 Alexander St\, Vancouver\, Canada
ATTACH;FMTTYPE=image/jpeg:https://gastown.org/wp-content/uploads/2025/05/JR300597_@.jpg
END:VEVENT
BEGIN:VEVENT
DTSTART;TZID=America/Vancouver:20250731T160000
DTEND;TZID=America/Vancouver:20250731T190000
DTSTAMP:20260420T074552
CREATED:20250612T203721Z
LAST-MODIFIED:20250612T203721Z
UID:10000089-1753977600-1753988400@gastown.org
SUMMARY:Gastown Thursday Nights
DESCRIPTION:Patios\, pop-ups\, and good times – Thursday nights in Gastown are back. \nStart your weekend early. Every Thursday night this summer\, Gastown becomes a living soundtrack – featuring live performances on every block\, patios that spill into the streets\, and that classic cobblestone charm. Come for the music\, stay for the magic. Every Thursday\, 4–7 PM. \nStay tuned for your weekly lineup. \nBrought to you in partnership with Amex Shop Small®. \n \n 
URL:https://gastown.org/event/gastown-thursday-nights/2025-07-31/
LOCATION:Gastown\, 1 Alexander St\, Vancouver\, Canada
ATTACH;FMTTYPE=image/jpeg:https://gastown.org/wp-content/uploads/2025/05/JR300597_@.jpg
END:VEVENT
BEGIN:VEVENT
DTSTART;TZID=America/Vancouver:20250724T160000
DTEND;TZID=America/Vancouver:20250724T190000
DTSTAMP:20260420T074552
CREATED:20250612T203721Z
LAST-MODIFIED:20250612T203721Z
UID:10000088-1753372800-1753383600@gastown.org
SUMMARY:Gastown Thursday Nights
DESCRIPTION:Patios\, pop-ups\, and good times – Thursday nights in Gastown are back. \nStart your weekend early. Every Thursday night this summer\, Gastown becomes a living soundtrack – featuring live performances on every block\, patios that spill into the streets\, and that classic cobblestone charm. Come for the music\, stay for the magic. Every Thursday\, 4–7 PM. \nStay tuned for your weekly lineup. \nBrought to you in partnership with Amex Shop Small®. \n \n 
URL:https://gastown.org/event/gastown-thursday-nights/2025-07-24/
LOCATION:Gastown\, 1 Alexander St\, Vancouver\, Canada
ATTACH;FMTTYPE=image/jpeg:https://gastown.org/wp-content/uploads/2025/05/JR300597_@.jpg
END:VEVENT
BEGIN:VEVENT
DTSTART;TZID=America/Vancouver:20250717T160000
DTEND;TZID=America/Vancouver:20250717T190000
DTSTAMP:20260420T074552
CREATED:20250612T203721Z
LAST-MODIFIED:20250612T203721Z
UID:10000087-1752768000-1752778800@gastown.org
SUMMARY:Gastown Thursday Nights
DESCRIPTION:Patios\, pop-ups\, and good times – Thursday nights in Gastown are back. \nStart your weekend early. Every Thursday night this summer\, Gastown becomes a living soundtrack – featuring live performances on every block\, patios that spill into the streets\, and that classic cobblestone charm. Come for the music\, stay for the magic. Every Thursday\, 4–7 PM. \nStay tuned for your weekly lineup. \nBrought to you in partnership with Amex Shop Small®. \n \n 
URL:https://gastown.org/event/gastown-thursday-nights/2025-07-17/
LOCATION:Gastown\, 1 Alexander St\, Vancouver\, Canada
ATTACH;FMTTYPE=image/jpeg:https://gastown.org/wp-content/uploads/2025/05/JR300597_@.jpg
END:VEVENT
BEGIN:VEVENT
DTSTART;TZID=America/Vancouver:20250710T160000
DTEND;TZID=America/Vancouver:20250710T190000
DTSTAMP:20260420T074552
CREATED:20250612T203721Z
LAST-MODIFIED:20250612T203721Z
UID:10000086-1752163200-1752174000@gastown.org
SUMMARY:Gastown Thursday Nights
DESCRIPTION:Patios\, pop-ups\, and good times – Thursday nights in Gastown are back. \nStart your weekend early. Every Thursday night this summer\, Gastown becomes a living soundtrack – featuring live performances on every block\, patios that spill into the streets\, and that classic cobblestone charm. Come for the music\, stay for the magic. Every Thursday\, 4–7 PM. \nStay tuned for your weekly lineup. \nBrought to you in partnership with Amex Shop Small®. \n \n 
URL:https://gastown.org/event/gastown-thursday-nights/2025-07-10/
LOCATION:Gastown\, 1 Alexander St\, Vancouver\, Canada
ATTACH;FMTTYPE=image/jpeg:https://gastown.org/wp-content/uploads/2025/05/JR300597_@.jpg
END:VEVENT
BEGIN:VEVENT
DTSTART;TZID=America/Vancouver:20250703T160000
DTEND;TZID=America/Vancouver:20250703T190000
DTSTAMP:20260420T074552
CREATED:20250612T203721Z
LAST-MODIFIED:20250612T203721Z
UID:10000085-1751558400-1751569200@gastown.org
SUMMARY:Gastown Thursday Nights
DESCRIPTION:Patios\, pop-ups\, and good times – Thursday nights in Gastown are back. \nStart your weekend early. Every Thursday night this summer\, Gastown becomes a living soundtrack – featuring live performances on every block\, patios that spill into the streets\, and that classic cobblestone charm. Come for the music\, stay for the magic. Every Thursday\, 4–7 PM. \nStay tuned for your weekly lineup. \nBrought to you in partnership with Amex Shop Small®. \n \n 
URL:https://gastown.org/event/gastown-thursday-nights/2025-07-03/
LOCATION:Gastown\, 1 Alexander St\, Vancouver\, Canada
ATTACH;FMTTYPE=image/jpeg:https://gastown.org/wp-content/uploads/2025/05/JR300597_@.jpg
END:VEVENT
BEGIN:VEVENT
DTSTART;TZID=America/Vancouver:20250626T160000
DTEND;TZID=America/Vancouver:20250626T190000
DTSTAMP:20260420T074552
CREATED:20250612T203721Z
LAST-MODIFIED:20250612T203721Z
UID:10000084-1750953600-1750964400@gastown.org
SUMMARY:Gastown Thursday Nights
DESCRIPTION:Patios\, pop-ups\, and good times – Thursday nights in Gastown are back. \nStart your weekend early. Every Thursday night this summer\, Gastown becomes a living soundtrack – featuring live performances on every block\, patios that spill into the streets\, and that classic cobblestone charm. Come for the music\, stay for the magic. Every Thursday\, 4–7 PM. \nStay tuned for your weekly lineup. \nBrought to you in partnership with Amex Shop Small®. \n \n 
URL:https://gastown.org/event/gastown-thursday-nights/2025-06-26/
LOCATION:Gastown\, 1 Alexander St\, Vancouver\, Canada
ATTACH;FMTTYPE=image/jpeg:https://gastown.org/wp-content/uploads/2025/05/JR300597_@.jpg
END:VEVENT
BEGIN:VEVENT
DTSTART;TZID=America/Vancouver:20250619T160000
DTEND;TZID=America/Vancouver:20250619T190000
DTSTAMP:20260420T074552
CREATED:20250612T203721Z
LAST-MODIFIED:20250612T203721Z
UID:10000083-1750348800-1750359600@gastown.org
SUMMARY:Gastown Thursday Nights
DESCRIPTION:Patios\, pop-ups\, and good times – Thursday nights in Gastown are back. \nStart your weekend early. Every Thursday night this summer\, Gastown becomes a living soundtrack – featuring live performances on every block\, patios that spill into the streets\, and that classic cobblestone charm. Come for the music\, stay for the magic. Every Thursday\, 4–7 PM. \nStay tuned for your weekly lineup. \nBrought to you in partnership with Amex Shop Small®. \n \n 
URL:https://gastown.org/event/gastown-thursday-nights/2025-06-19/
LOCATION:Gastown\, 1 Alexander St\, Vancouver\, Canada
ATTACH;FMTTYPE=image/jpeg:https://gastown.org/wp-content/uploads/2025/05/JR300597_@.jpg
END:VEVENT
BEGIN:VEVENT
DTSTART;TZID=America/Vancouver:20250612T160000
DTEND;TZID=America/Vancouver:20250612T190000
DTSTAMP:20260420T074552
CREATED:20250612T203721Z
LAST-MODIFIED:20250612T203721Z
UID:10000082-1749744000-1749754800@gastown.org
SUMMARY:Gastown Thursday Nights
DESCRIPTION:Patios\, pop-ups\, and good times – Thursday nights in Gastown are back. \nStart your weekend early. Every Thursday night this summer\, Gastown becomes a living soundtrack – featuring live performances on every block\, patios that spill into the streets\, and that classic cobblestone charm. Come for the music\, stay for the magic. Every Thursday\, 4–7 PM. \nStay tuned for your weekly lineup. \nBrought to you in partnership with Amex Shop Small®. \n \n 
URL:https://gastown.org/event/gastown-thursday-nights/2025-06-12/
LOCATION:Gastown\, 1 Alexander St\, Vancouver\, Canada
ATTACH;FMTTYPE=image/jpeg:https://gastown.org/wp-content/uploads/2025/05/JR300597_@.jpg
END:VEVENT
BEGIN:VEVENT
DTSTART;TZID=America/Vancouver:20250605T160000
DTEND;TZID=America/Vancouver:20250605T190000
DTSTAMP:20260420T074552
CREATED:20250612T203721Z
LAST-MODIFIED:20250612T203721Z
UID:10000081-1749139200-1749150000@gastown.org
SUMMARY:Gastown Thursday Nights
DESCRIPTION:Patios\, pop-ups\, and good times – Thursday nights in Gastown are back. \nStart your weekend early. Every Thursday night this summer\, Gastown becomes a living soundtrack – featuring live performances on every block\, patios that spill into the streets\, and that classic cobblestone charm. Come for the music\, stay for the magic. Every Thursday\, 4–7 PM. \nStay tuned for your weekly lineup. \nBrought to you in partnership with Amex Shop Small®. \n \n 
URL:https://gastown.org/event/gastown-thursday-nights/2025-06-05/
LOCATION:Gastown\, 1 Alexander St\, Vancouver\, Canada
ATTACH;FMTTYPE=image/jpeg:https://gastown.org/wp-content/uploads/2025/05/JR300597_@.jpg
END:VEVENT
BEGIN:VEVENT
DTSTART;VALUE=DATE:20240710
DTEND;VALUE=DATE:20240711
DTSTAMP:20260420T074552
CREATED:20240627T192533Z
LAST-MODIFIED:20240628T173854Z
UID:10000016-1720569600-1720655999@gastown.org
SUMMARY:Gastown Grand Prix
DESCRIPTION:One of North America’s most historic and prestigious road cycling events. Come and see the best Male & Female road cyclists in North America and from around the World compete in the heart of historic Gastown. \n\n\n\n\n\n\n\nTiming:\n\n\n\n17:30\nYOUTH RACE\nWatch the next generation of athletes compete on the same course as the professionals. \n17:55\nOPENING CEREMONIES\nWelcoming remarks from our partners and national anthem. \n18:15\nWOMEN’S PRO RACE\n30 laps  |   48 km \n19:30\nMEN’S PRO RACE\n42 laps  |   60 km \n21:00\nAWARDS CEREMONIES\nTop 3 Men & Women in their respective races. \n\nRoad Closures:\n01 – Full Closure – Cambie St (Cordova to Water) | 9:00am-11:00pm \n02 – Full Closure – Blood Alley | 9:00am-11:00pm \n03 – Full Closure – Cambie St (Cordova to lane North of Water)| 9:30am-Midnight \n04 – Full Closure – Water St | 12:00pm-11:00pm \n05 – Full Closure – Cordova St (Richards to Columbia) | 2:00pm-11:00pm \n06 – Full Closure – Powell St (Carrall to Columbia) | 12:00pm-Midnight \n07 – 1:00pm Parking Closure – Carrall Street (Cordova to Water) | 1:00pm-11:00pm \n08 – Full Closure – Columbia St (Cordova to Powell) | 2:00pm-11:00pm \n09 – Full Closure – Harbour Light Alley | 2:00pm-11:00pm \n10 – Full Closure – Abbott St (Cordova to Water) | 2:00pm-11:00pm
URL:https://gastown.org/event/gastown-grand-prix/
LOCATION:Gastown\, 1 Alexander St\, Vancouver\, Canada
ATTACH;FMTTYPE=image/jpeg:https://gastown.org/wp-content/uploads/2024/06/2012_Global_Relay_Gastown_Grand_Prix_-_Mens_Race_-_Starting_Lineup.jpg
END:VEVENT
END:VCALENDAR