BEGIN:VCALENDAR
VERSION:2.0
PRODID:-//Gastown - ECPv6.15.18//NONSGML v1.0//EN
CALSCALE:GREGORIAN
METHOD:PUBLISH
X-ORIGINAL-URL:https://gastown.org
X-WR-CALDESC:Events for Gastown
REFRESH-INTERVAL;VALUE=DURATION:PT1H
X-Robots-Tag:noindex
X-PUBLISHED-TTL:PT1H
BEGIN:VTIMEZONE
TZID:America/Vancouver
BEGIN:DAYLIGHT
TZOFFSETFROM:-0800
TZOFFSETTO:-0700
TZNAME:PDT
DTSTART:20230312T100000
END:DAYLIGHT
BEGIN:STANDARD
TZOFFSETFROM:-0700
TZOFFSETTO:-0800
TZNAME:PST
DTSTART:20231105T090000
END:STANDARD
BEGIN:DAYLIGHT
TZOFFSETFROM:-0800
TZOFFSETTO:-0700
TZNAME:PDT
DTSTART:20240310T100000
END:DAYLIGHT
BEGIN:STANDARD
TZOFFSETFROM:-0700
TZOFFSETTO:-0800
TZNAME:PST
DTSTART:20241103T090000
END:STANDARD
BEGIN:DAYLIGHT
TZOFFSETFROM:-0800
TZOFFSETTO:-0700
TZNAME:PDT
DTSTART:20250309T100000
END:DAYLIGHT
BEGIN:STANDARD
TZOFFSETFROM:-0700
TZOFFSETTO:-0800
TZNAME:PST
DTSTART:20251102T090000
END:STANDARD
END:VTIMEZONE
BEGIN:VEVENT
DTSTART;TZID=America/Vancouver:20240730T160000
DTEND;TZID=America/Vancouver:20240730T190000
DTSTAMP:20260421T043813
CREATED:20240725T203053Z
LAST-MODIFIED:20240725T203053Z
UID:10000068-1722355200-1722366000@gastown.org
SUMMARY:No Stress Chess
DESCRIPTION:Did you know there are more chess moves than atoms in the observable universe?! Music & Chess see the future in slow motion; reverberating the moment while dancing with the next idea to play. This 1500-year-old game serves as a bridge between strangers; presenting patience as the best presence. No stress if you’re new to the game\, take it slow and soak in jazz\, soul\, and hip-hop. Bring something that begins with ‘C’ for your chance to win prizes. Bonus points for ‘Ch’ (chai\, cherries\, chocolate\, etc :’-)
URL:https://gastown.org/event/no-stress-chess/
LOCATION:Maple Tree Square\, Maple Tree Square\, Vancouver\, British Columbia\, Canada
END:VEVENT
BEGIN:VEVENT
DTSTART;TZID=America/Vancouver:20240729T120000
DTEND;TZID=America/Vancouver:20240729T150000
DTSTAMP:20260421T043813
CREATED:20240725T202747Z
LAST-MODIFIED:20240725T202747Z
UID:10000066-1722254400-1722265200@gastown.org
SUMMARY:Makemobile: Craft Cafe
DESCRIPTION:Creative Activations including Mandala Painting\, Needle Felted Nametags\, Mending and Stitching\, Fan Decorating etc.
URL:https://gastown.org/event/makemobile-craft-cafe/2024-07-29/
LOCATION:Maple Tree Square\, Maple Tree Square\, Vancouver\, British Columbia\, Canada
END:VEVENT
BEGIN:VEVENT
DTSTART;TZID=America/Vancouver:20240729T120000
DTEND;TZID=America/Vancouver:20240729T150000
DTSTAMP:20260421T043813
CREATED:20240703T222805Z
LAST-MODIFIED:20240703T222805Z
UID:10000046-1722254400-1722265200@gastown.org
SUMMARY:Monday Afternoon Craft Café
DESCRIPTION:Sociable Crafting Activations including Mandala Painting\, Needle Felted Name-tags\, Experimenting and Sociable Stitching\, Cardboard Fan decorating etc.
URL:https://gastown.org/event/monday-afternoon-craft-cafe/2024-07-29/
LOCATION:Maple Tree Square\, Maple Tree Square\, Vancouver\, British Columbia\, Canada
END:VEVENT
BEGIN:VEVENT
DTSTART;TZID=America/Vancouver:20240728T180000
DTEND;TZID=America/Vancouver:20240728T200000
DTSTAMP:20260421T043813
CREATED:20240725T202309Z
LAST-MODIFIED:20240725T202309Z
UID:10000065-1722189600-1722196800@gastown.org
SUMMARY:Hustle Dance
DESCRIPTION:Hustle is a partner dance created in the 1970s disco era in the clubs of New York City\, with roots in LGBTQ+ Latin and Black culture. In 2013 a small group of street dancers in Vancouver were getting swept up in the hustle revival they were seeing at events around the world\, and began meeting every Tuesday at Robson Square to share their knowledge. The Hustle at RS Dance Society was formed in 2020 and is a non-profit organization providing financially accessible dance classes\, and raising funds for events and future programming.
URL:https://gastown.org/event/hustle-dance/
LOCATION:Maple Tree Square\, Maple Tree Square\, Vancouver\, British Columbia\, Canada
END:VEVENT
BEGIN:VEVENT
DTSTART;TZID=America/Vancouver:20240719T160000
DTEND;TZID=America/Vancouver:20240719T190000
DTSTAMP:20260421T043813
CREATED:20240703T225133Z
LAST-MODIFIED:20240703T225247Z
UID:10000053-1721404800-1721415600@gastown.org
SUMMARY:Friday Evening Craft Café
DESCRIPTION:Sociable Crafting Activations including Mandala Painting\, Needle Felted Name-tags\, Experimenting and Sociable Stitching\, Cardboard Fan decorating etc.
URL:https://gastown.org/event/friday-evening-craft-cafe/2024-07-19/
LOCATION:Maple Tree Square\, Maple Tree Square\, Vancouver\, British Columbia\, Canada
END:VEVENT
BEGIN:VEVENT
DTSTART;TZID=America/Vancouver:20240715T120000
DTEND;TZID=America/Vancouver:20240715T150000
DTSTAMP:20260421T043813
CREATED:20240703T222805Z
LAST-MODIFIED:20240703T222805Z
UID:10000045-1721044800-1721055600@gastown.org
SUMMARY:Monday Afternoon Craft Café
DESCRIPTION:Sociable Crafting Activations including Mandala Painting\, Needle Felted Name-tags\, Experimenting and Sociable Stitching\, Cardboard Fan decorating etc.
URL:https://gastown.org/event/monday-afternoon-craft-cafe/2024-07-15/
LOCATION:Maple Tree Square\, Maple Tree Square\, Vancouver\, British Columbia\, Canada
END:VEVENT
BEGIN:VEVENT
DTSTART;TZID=America/Vancouver:20240705T160000
DTEND;TZID=America/Vancouver:20240705T190000
DTSTAMP:20260421T043813
CREATED:20240703T225133Z
LAST-MODIFIED:20240703T225247Z
UID:10000052-1720195200-1720206000@gastown.org
SUMMARY:Friday Evening Craft Café
DESCRIPTION:Sociable Crafting Activations including Mandala Painting\, Needle Felted Name-tags\, Experimenting and Sociable Stitching\, Cardboard Fan decorating etc.
URL:https://gastown.org/event/friday-evening-craft-cafe/2024-07-05/
LOCATION:Maple Tree Square\, Maple Tree Square\, Vancouver\, British Columbia\, Canada
END:VEVENT
BEGIN:VEVENT
DTSTART;TZID=America/Vancouver:20240701T120000
DTEND;TZID=America/Vancouver:20240701T150000
DTSTAMP:20260421T043813
CREATED:20240703T222805Z
LAST-MODIFIED:20240703T222805Z
UID:10000044-1719835200-1719846000@gastown.org
SUMMARY:Monday Afternoon Craft Café
DESCRIPTION:Sociable Crafting Activations including Mandala Painting\, Needle Felted Name-tags\, Experimenting and Sociable Stitching\, Cardboard Fan decorating etc.
URL:https://gastown.org/event/monday-afternoon-craft-cafe/2024-07-01/
LOCATION:Maple Tree Square\, Maple Tree Square\, Vancouver\, British Columbia\, Canada
END:VEVENT
END:VCALENDAR